BEGIN:VCALENDAR
VERSION:2.0
PRODID:-//Gilmore Church - ECPv5.3.1.1//NONSGML v1.0//EN
CALSCALE:GREGORIAN
METHOD:PUBLISH
X-WR-CALNAME:Gilmore Church
X-ORIGINAL-URL:https://gilmorechurch.org.au
X-WR-CALDESC:Events for Gilmore Church
BEGIN:VTIMEZONE
TZID:Australia/Melbourne
BEGIN:STANDARD
TZOFFSETFROM:+1100
TZOFFSETTO:+1000
TZNAME:AEST
DTSTART:20190406T160000
END:STANDARD
BEGIN:DAYLIGHT
TZOFFSETFROM:+1000
TZOFFSETTO:+1100
TZNAME:AEDT
DTSTART:20191005T160000
END:DAYLIGHT
END:VTIMEZONE
BEGIN:VEVENT
DTSTART;TZID=Australia/Melbourne:20191208T103000
DTEND;TZID=Australia/Melbourne:20191208T120000
DTSTAMP:20210224T120521
CREATED:20190614T052146Z
LAST-MODIFIED:20190614T052146Z
UID:1390-1575801000-1575806400@gilmorechurch.org.au
SUMMARY:Church Service
DESCRIPTION:Sunday morning at 10.30 am for fellowship
URL:https://gilmorechurch.org.au/event/church-service-66/
LOCATION:Gilmore Primary School
CATEGORIES:ChurchEvents
END:VEVENT
END:VCALENDAR